Workbook

Sheet Portada
C2: CONTABILIDAD SAN VICENTE
D8: Evaluación de proyectos
D12: Borrador de trabajo
D16: Modelo financiero mensual de 60 meses (5 años). Ejemplo ficticio con supuestos y cuentas editables.
D22: Versión 2.0 mensual · 18 de octubre de 2026
C29: Preparado para | D29: Contabilidad San Vicente

Sheet Resumen
C2: Resumen
C4: Proyecto | D4: =Supuestos!D5 -> Proyecto de ejemplo
C5: Unidad | D5: =Supuestos!D6 -> CLP
C7: INDICADORES DEL PROYECTO
C8: VAN | D8: {=NPV(Supuestos!D14,Flujos!E24:BL24)+Flujos!D24} -> 71510442
C9: TIR anualizada | D9: =IF(ISNUMBER(D17),(1+D17)^12-1,D17) -> 0.42340322
C10: Inversión inicial total | D10: =-Flujos!D24 -> 90000000
C11: Tasa de descuento | D11: =Supuestos!D9 -> 0.12
C12: Índice de rentabilidad | D12: {=IF(Flujos!D24>=0,"No aplica",NPV(Supuestos!D14,Flujos!E24:BL24)/-Flujos!D24)} -> 1.7945605
C13: Recuperación simple (meses) | D13: =IF(Flujos!D24>=0,"No aplica",IF(MIN(Flujos!E29:BL29)=999,"No recupera",MIN(Flujos!E29:BL29))) -> 30.857775
C14: Recuperación descontada (meses) | D14: =IF(Flujos!D24>=0,"No aplica",IF(MIN(Flujos!E30:BL30)=999,"No recupera",MIN(Flujos!E30:BL30))) -> 36.373969
C16: Lectura del VAN | D16: =IF(D8>0,"Crea valor",IF(D8<0,"Destruye valor","En equilibrio")) -> Crea valor
C17: TIR mensual | D17: =IF(OR(COUNTIF(Flujos!D24:BL24,"<0")=0,COUNTIF(Flujos!D24:BL24,">0")=0),"Sin signos válidos",IF(SUM(Flujos!E31:BL31)>1,"Revisar signos",IFERROR(IRR(Flujos!D24:BL24),"Sin convergencia"))) -> 0.029857957
C18: Tasa de descuento mensual | D18: =Supuestos!D14 -> 0.0094887929
C19: Ejemplo ficticio a 60 meses. VAN con descuento mensual efectivo. TIR anualizada = (1 + TIR mensual)^12 − 1. Recuperación fraccionaria con flujo uniforme dentro del mes. Edita los campos amarillos y consulta sus notas.
C24: Período | D24: Flujo libre | E24: Acumulado
C25: Mes 0 | D25: =Flujos!D24 -> -90000000 | E25: =Flujos!D27 -> -90000000
C26: Mes 1 | D26: =Flujos!E24 -> 2708333.3 | E26: =Flujos!E27 -> -87291667
C27: Mes 2 | D27: =Flujos!F24 -> 2708333.3 | E27: =Flujos!F27 -> -84583333
C28: Mes 3 | D28: =Flujos!G24 -> 2708333.3 | E28: =Flujos!G27 -> -81875000
C29: Mes 4 | D29: =Flujos!H24 -> 2708333.3 | E29: =Flujos!H27 -> -79166667
C30: Mes 5 | D30: =Flujos!I24 -> 2708333.3 | E30: =Flujos!I27 -> -76458333
C31: Mes 6 | D31: =Flujos!J24 -> 2708333.3 | E31: =Flujos!J27 -> -73750000
C32: Mes 7 | D32: =Flujos!K24 -> 2708333.3 | E32: =Flujos!K27 -> -71041667
C33: Mes 8 | D33: =Flujos!L24 -> 2708333.3 | E33: =Flujos!L27 -> -68333333
C34: Mes 9 | D34: =Flujos!M24 -> 2708333.3 | E34: =Flujos!M27 -> -65625000
C35: Mes 10 | D35: =Flujos!N24 -> 2708333.3 | E35: =Flujos!N27 -> -62916667
C36: Mes 11 | D36: =Flujos!O24 -> 2708333.3 | E36: =Flujos!O27 -> -60208333
C37: Mes 12 | D37: =Flujos!P24 -> 1708333.3 | E37: =Flujos!P27 -> -58500000
C38: Mes 13 | D38: =Flujos!Q24 -> 3030208.3 | E38: =Flujos!Q27 -> -55469792
C39: Mes 14 | D39: =Flujos!R24 -> 3030208.3 | E39: =Flujos!R27 -> -52439583
C40: Mes 15 | D40: =Flujos!S24 -> 3030208.3 | E40: =Flujos!S27 -> -49409375
C41: Mes 16 | D41: =Flujos!T24 -> 3030208.3 | E41: =Flujos!T27 -> -46379167
C42: Mes 17 | D42: =Flujos!U24 -> 3030208.3 | E42: =Flujos!U27 -> -43348958
C43: Mes 18 | D43: =Flujos!V24 -> 3030208.3 | E43: =Flujos!V27 -> -40318750
C44: Mes 19 | D44: =Flujos!W24 -> 3030208.3 | E44: =Flujos!W27 -> -37288542
C45: Mes 20 | D45: =Flujos!X24 -> 3030208.3 | E45: =Flujos!X27 -> -34258333
C46: Mes 21 | D46: =Flujos!Y24 -> 3030208.3 | E46: =Flujos!Y27 -> -31228125
C47: Mes 22 | D47: =Flujos!Z24 -> 3030208.3 | E47: =Flujos!Z27 -> -28197917
C48: Mes 23 | D48: =Flujos!AA24 -> 3030208.3 | E48: =Flujos!AA27 -> -25167708
...

Sheet Supuestos
C2: Supuestos
C4: IDENTIFICACIÓN Y TASAS
C5: Proyecto | D5: Proyecto de ejemplo
C6: Moneda / unidad | D6: CLP
C7: Responsable | D7: Por completar
C9: Tasa de descuento anual | D9: 0.12
C10: Tasa de impuesto de ejemplo | D10: 0.25
C11: Vida útil inicial (años) | D11: 5
C12: Valor de venta al cierre | D12: 10000000
C13: Capital de trabajo (meses de ventas) | D13: 1.2
C14: Tasa de descuento mensual | D14: =(1+D9)^(1/12)-1 -> 0.0094887929
C16: SUPUESTOS MENSUALES
D17: Unidad | E17: Mes 1 | F17: Mes 2 | G17: Mes 3 | H17: Mes 4 | I17: Mes 5 | J17: Mes 6 | K17: Mes 7 | L17: Mes 8 | M17: Mes 9 | N17: Mes 10 | O17: Mes 11 | P17: Mes 12 | Q17: Mes 13 | R17: Mes 14 | S17: Mes 15 | T17: Mes 16 | U17: Mes 17 | V17: Mes 18 | W17: Mes 19 | X17: Mes 20 | Y17: Mes 21 | Z17: Mes 22 | AA17: Mes 23 | AB17: Mes 24 | AC17: Mes 25 | AD17: Mes 26 | AE17: Mes 27 | AF17: Mes 28 | AG17: Mes 29 | AH17: Mes 30 | AI17: Mes 31 | AJ17: Mes 32 | AK17: Mes 33 | AL17: Mes 34 | AM17: Mes 35 | AN17: Mes 36 | AO17: Mes 37 | AP17: Mes 38 | AQ17: Mes 39 | AR17: Mes 40 | AS17: Mes 41 | AT17: Mes 42 | AU17: Mes 43 | AV17: Mes 44 | AW17: Mes 45 | AX17: Mes 46 | AY17: Mes 47 | AZ17: Mes 48 | BA17: Mes 49 | BB17: Mes 50 | BC17: Mes 51 | BD17: Mes 52 | BE17: Mes 53 | BF17: Mes 54 | BG17: Mes 55 | BH17: Mes 56 | BI17: Mes 57 | BJ17: Mes 58 | BK17: Mes 59 | BL17: Mes 60
C18: Costo variable / ingresos | D18: % | E18: 0.35 | F18: 0.35 | G18: 0.35 | H18: 0.35 | I18: 0.35 | J18: 0.35 | K18: 0.35 | L18: 0.35 | M18: 0.35 | N18: 0.35 | O18: 0.35 | P18: 0.35 | Q18: 0.35 | R18: 0.35 | S18: 0.35 | T18: 0.35 | U18: 0.35 | V18: 0.35 | W18: 0.35 | X18: 0.35 | Y18: 0.35 | Z18: 0.35 | AA18: 0.35 | AB18: 0.35 | AC18: 0.35 | AD18: 0.35 | AE18: 0.35 | AF18: 0.35 | AG18: 0.35 | AH18: 0.35 | AI18: 0.35 | AJ18: 0.35 | AK18: 0.35 | AL18: 0.35 | AM18: 0.35 | AN18: 0.35 | AO18: 0.35 | AP18: 0.35 | AQ18: 0.35 | AR18: 0.35 | AS18: 0.35 | AT18: 0.35 | AU18: 0.35 | AV18: 0.35 | AW18: 0.35 | AX18: 0.35 | AY18: 0.35 | AZ18: 0.35 | BA18: 0.35 | BB18: 0.35 | BC18: 0.35 | BD18: 0.35 | BE18: 0.35 | BF18: 0.35 | BG18: 0.35 | BH18: 0.35 | BI18: 0.35 | BJ18: 0.35 | BK18: 0.35 | BL18: 0.35
C19: Depreciación de nuevas inversiones | D19: moneda | E19: 0 | F19: 0 | G19: 0 | H19: 0 | I19: 0 | J19: 0 | K19: 0 | L19: 0 | M19: 0 | N19: 0 | O19: 0 | P19: 0 | Q19: 0 | R19: 0 | S19: 0 | T19: 0 | U19: 0 | V19: 0 | W19: 0 | X19: 0 | Y19: 0 | Z19: 0 | AA19: 0 | AB19: 0 | AC19: 0 | AD19: 0 | AE19: 0 | AF19: 0 | AG19: 0 | AH19: 0 | AI19: 0 | AJ19: 0 | AK19: 0 | AL19: 0 | AM19: 0 | AN19: 0 | AO19: 0 | AP19: 0 | AQ19: 0 | AR19: 0 | AS19: 0 | AT19: 0 | AU19: 0 | AV19: 0 | AW19: 0 | AX19: 0 | AY19: 0 | AZ19: 0 | BA19: 0 | BB19: 0 | BC19: 0 | BD19: 0 | BE19: 0 | BF19: 0 | BG19: 0 | BH19: 0 | BI19: 0 | BJ19: 0 | BK19: 0 | BL19: 0
C22: CÓMO AJUSTAR EL MODELO
C24: 1. Completa los datos y tasas | D24: Las tasas de descuento e impuesto se ingresan como porcentajes. El descuento anual se convierte en tasa mensual efectiva en D14.
C27: 2. Edita las cuentas | D27: Cuentas contiene 30 espacios y 60 meses editables. Ingresos y costos del ejemplo se repartieron en 12 meses iguales por cada año. Revisa estacionalidad y plazos reales.
C30: 3. Revisa inversiones nuevas | D30: Depreciación inicial mensual = inversión inicial / (vida útil × 12), limitada al saldo. Para activos nuevos, ingresa su depreciación mensual en la fila 19.
C33: 4. Revisa el resumen | D33: El resumen calcula VAN mensual, TIR mensual y anualizada, índice de rentabilidad y recuperación en meses.
C36: Convención temporal | D36: Mes 0: inversión y capital de trabajo inicial. Flujos al cierre mensual. El capital de trabajo se prepara para las ventas del mes siguiente.
C39: Cierre al mes 60 | D39: El proyecto se liquida al mes 60: venta de activos y recuperación del capital de trabajo. No incluye perpetuidad.
C42: Tratamiento simplificado | D42: Impuesto operativo simplificado mensual sin arrastre de pérdidas ni compensación entre meses. No incluye IVA, deuda o inflación automática.
C45: Colores | D45: Amarillo y azul: editable. Verde: vínculo entre hojas. Oscuro: fórmula o resultado. Abre la nota de cada campo para consultar su explicación.

Sheet Flujos
C2: Flujos
C4: FLUJO LIBRE DEL PROYECTO
C5: Concepto | D5: Mes 0 | E5: Mes 1 | F5: Mes 2 | G5: Mes 3 | H5: Mes 4 | I5: Mes 5 | J5: Mes 6 | K5: Mes 7 | L5: Mes 8 | M5: Mes 9 | N5: Mes 10 | O5: Mes 11 | P5: Mes 12 | Q5: Mes 13 | R5: Mes 14 | S5: Mes 15 | T5: Mes 16 | U5: Mes 17 | V5: Mes 18 | W5: Mes 19 | X5: Mes 20 | Y5: Mes 21 | Z5: Mes 22 | AA5: Mes 23 | AB5: Mes 24 | AC5: Mes 25 | AD5: Mes 26 | AE5: Mes 27 | AF5: Mes 28 | AG5: Mes 29 | AH5: Mes 30 | AI5: Mes 31 | AJ5: Mes 32 | AK5: Mes 33 | AL5: Mes 34 | AM5: Mes 35 | AN5: Mes 36 | AO5: Mes 37 | AP5: Mes 38 | AQ5: Mes 39 | AR5: Mes 40 | AS5: Mes 41 | AT5: Mes 42 | AU5: Mes 43 | AV5: Mes 44 | AW5: Mes 45 | AX5: Mes 46 | AY5: Mes 47 | AZ5: Mes 48 | BA5: Mes 49 | BB5: Mes 50 | BC5: Mes 51 | BD5: Mes 52 | BE5: Mes 53 | BF5: Mes 54 | BG5: Mes 55 | BH5: Mes 56 | BI5: Mes 57 | BJ5: Mes 58 | BK5: Mes 59 | BL5: Mes 60
C6: Ingresos | D6: 0 | E6: =SUMIF(Cuentas!$D$6:$D$35,"Ingreso",Cuentas!F$6:F$35) -> 8333333.3 | F6: =SUMIF(Cuentas!$D$6:$D$35,"Ingreso",Cuentas!G$6:G$35) -> 8333333.3 | G6: =SUMIF(Cuentas!$D$6:$D$35,"Ingreso",Cuentas!H$6:H$35) -> 8333333.3 | H6: =SUMIF(Cuentas!$D$6:$D$35,"Ingreso",Cuentas!I$6:I$35) -> 8333333.3 | I6: =SUMIF(Cuentas!$D$6:$D$35,"Ingreso",Cuentas!J$6:J$35) -> 8333333.3 | J6: =SUMIF(Cuentas!$D$6:$D$35,"Ingreso",Cuentas!K$6:K$35) -> 8333333.3 | K6: =SUMIF(Cuentas!$D$6:$D$35,"Ingreso",Cuentas!L$6:L$35) -> 8333333.3 | L6: =SUMIF(Cuentas!$D$6:$D$35,"Ingreso",Cuentas!M$6:M$35) -> 8333333.3 | ... BL6: =SUMIF(Cuentas!$D$6:$D$35,"Ingreso",Cuentas!BM$6:BM$35) -> 12200833
C7: Costos variables | D7: 0 | E7: =-E6*Supuestos!E18 -> -2916666.7 | F7: =-F6*Supuestos!F18 -> -2916666.7 | G7: =-G6*Supuestos!G18 -> -2916666.7 | H7: =-H6*Supuestos!H18 -> -2916666.7 | I7: =-I6*Supuestos!I18 -> -2916666.7 | J7: =-J6*Supuestos!J18 -> -2916666.7 | K7: =-K6*Supuestos!K18 -> -2916666.7 | L7: =-L6*Supuestos!L18 -> -2916666.7 | ... BL7: =-BL6*Supuestos!BL18 -> -4270291.7
C8: Costos fijos | D8: 0 | E8: =-SUMIF(Cuentas!$D$6:$D$35,"Costo fijo",Cuentas!F$6:F$35) -> -2250000 | F8: =-SUMIF(Cuentas!$D$6:$D$35,"Costo fijo",Cuentas!G$6:G$35) -> -2250000 | G8: =-SUMIF(Cuentas!$D$6:$D$35,"Costo fijo",Cuentas!H$6:H$35) -> -2250000 | H8: =-SUMIF(Cuentas!$D$6:$D$35,"Costo fijo",Cuentas!I$6:I$35) -> -2250000 | I8: =-SUMIF(Cuentas!$D$6:$D$35,"Costo fijo",Cuentas!J$6:J$35) -> -2250000 | J8: =-SUMIF(Cuentas!$D$6:$D$35,"Costo fijo",Cuentas!K$6:K$35) -> -2250000 | K8: =-SUMIF(Cuentas!$D$6:$D$35,"Costo fijo",Cuentas!L$6:L$35) -> -2250000 | L8: =-SUMIF(Cuentas!$D$6:$D$35,"Costo fijo",Cuentas!M$6:M$35) -> -2250000 | ... BL8: =-SUMIF(Cuentas!$D$6:$D$35,"Costo fijo",Cuentas!BM$6:BM$35) -> -2734889.1
C9: EBITDA | D9: 0 | E9: =SUM(E6:E8) -> 3166666.7 | F9: =SUM(F6:F8) -> 3166666.7 | G9: =SUM(G6:G8) -> 3166666.7 | H9: =SUM(H6:H8) -> 3166666.7 | I9: =SUM(I6:I8) -> 3166666.7 | J9: =SUM(J6:J8) -> 3166666.7 | K9: =SUM(K6:K8) -> 3166666.7 | L9: =SUM(L6:L8) -> 3166666.7 | ... BL9: =SUM(BL6:BL8) -> 5195652.6
C10: Depreciación inicial | D10: 0 | E10: =-MAX(0,MIN(-$D$16/(Supuestos!$D$11*12),-$D$16+SUM($D10:D10))) -> -1333333.3 | F10: =-MAX(0,MIN(-$D$16/(Supuestos!$D$11*12),-$D$16+SUM($D10:E10))) -> -1333333.3 | G10: =-MAX(0,MIN(-$D$16/(Supuestos!$D$11*12),-$D$16+SUM($D10:F10))) -> -1333333.3 | H10: =-MAX(0,MIN(-$D$16/(Supuestos!$D$11*12),-$D$16+SUM($D10:G10))) -> -1333333.3 | I10: =-MAX(0,MIN(-$D$16/(Supuestos!$D$11*12),-$D$16+SUM($D10:H10))) -> -1333333.3 | J10: =-MAX(0,MIN(-$D$16/(Supuestos!$D$11*12),-$D$16+SUM($D10:I10))) -> -1333333.3 | K10: =-MAX(0,MIN(-$D$16/(Supuestos!$D$11*12),-$D$16+SUM($D10:J10))) -> -1333333.3 | L10: =-MAX(0,MIN(-$D$16/(Supuestos!$D$11*12),-$D$16+SUM($D10:K10))) -> -1333333.3 | ... BL10: =-MAX(0,MIN(-$D$16/(Supuestos!$D$11*12),-$D$16+SUM($D10:BK10))) -> -1333333.3
C11: Depreciación nuevas inversiones | D11: 0 | E11: =-Supuestos!E19 -> 0 | F11: =-Supuestos!F19 -> 0 | G11: =-Supuestos!G19 -> 0 | H11: =-Supuestos!H19 -> 0 | I11: =-Supuestos!I19 -> 0 | J11: =-Supuestos!J19 -> 0 | K11: =-Supuestos!K19 -> 0 | L11: =-Supuestos!L19 -> 0 | ... BL11: =-Supuestos!BL19 -> 0
C12: Resultado operativo (EBIT) | D12: 0 | E12: =SUM(E9:E11) -> 1833333.3 | F12: =SUM(F9:F11) -> 1833333.3 | G12: =SUM(G9:G11) -> 1833333.3 | H12: =SUM(H9:H11) -> 1833333.3 | I12: =SUM(I9:I11) -> 1833333.3 | J12: =SUM(J9:J11) -> 1833333.3 | K12: =SUM(K9:K11) -> 1833333.3 | L12: =SUM(L9:L11) -> 1833333.3 | ... BL12: =SUM(BL9:BL11) -> 3862319.3
C13: Impuesto operativo | D13: 0 | E13: =-MAX(0,E12)*Supuestos!$D$10 -> -458333.33 | F13: =-MAX(0,F12)*Supuestos!$D$10 -> -458333.33 | G13: =-MAX(0,G12)*Supuestos!$D$10 -> -458333.33 | H13: =-MAX(0,H12)*Supuestos!$D$10 -> -458333.33 | I13: =-MAX(0,I12)*Supuestos!$D$10 -> -458333.33 | J13: =-MAX(0,J12)*Supuestos!$D$10 -> -458333.33 | K13: =-MAX(0,K12)*Supuestos!$D$10 -> -458333.33 | L13: =-MAX(0,L12)*Supuestos!$D$10 -> -458333.33 | ... BL13: =-MAX(0,BL12)*Supuestos!$D$10 -> -965579.82
C14: Resultado operativo neto | D14: 0 | E14: =SUM(E12:E13) -> 1375000 | F14: =SUM(F12:F13) -> 1375000 | G14: =SUM(G12:G13) -> 1375000 | H14: =SUM(H12:H13) -> 1375000 | I14: =SUM(I12:I13) -> 1375000 | J14: =SUM(J12:J13) -> 1375000 | K14: =SUM(K12:K13) -> 1375000 | L14: =SUM(L12:L13) -> 1375000 | ... BL14: =SUM(BL12:BL13) -> 2896739.5
C15: Depreciación agregada al flujo | D15: 0 | E15: =-SUM(E10:E11) -> 1333333.3 | F15: =-SUM(F10:F11) -> 1333333.3 | G15: =-SUM(G10:G11) -> 1333333.3 | H15: =-SUM(H10:H11) -> 1333333.3 | I15: =-SUM(I10:I11) -> 1333333.3 | J15: =-SUM(J10:J11) -> 1333333.3 | K15: =-SUM(K10:K11) -> 1333333.3 | L15: =-SUM(L10:L11) -> 1333333.3 | ... BL15: =-SUM(BL10:BL11) -> 1333333.3
C16: Inversión en activos | D16: =-SUMIF(Cuentas!$D$6:$D$35,"Inversión",Cuentas!$E$6:$E$35) -> -80000000 | E16: =-SUMIF(Cuentas!$D$6:$D$35,"Inversión",Cuentas!F$6:F$35) -> 0 | F16: =-SUMIF(Cuentas!$D$6:$D$35,"Inversión",Cuentas!G$6:G$35) -> 0 | G16: =-SUMIF(Cuentas!$D$6:$D$35,"Inversión",Cuentas!H$6:H$35) -> 0 | H16: =-SUMIF(Cuentas!$D$6:$D$35,"Inversión",Cuentas!I$6:I$35) -> 0 | I16: =-SUMIF(Cuentas!$D$6:$D$35,"Inversión",Cuentas!J$6:J$35) -> 0 | J16: =-SUMIF(Cuentas!$D$6:$D$35,"Inversión",Cuentas!K$6:K$35) -> 0 | K16: =-SUMIF(Cuentas!$D$6:$D$35,"Inversión",Cuentas!L$6:L$35) -> 0 | L16: =-SUMIF(Cuentas!$D$6:$D$35,"Inversión",Cuentas!M$6:M$35) -> 0 | ... BL16: =-SUMIF(Cuentas!$D$6:$D$35,"Inversión",Cuentas!BM$6:BM$35) -> 0
C17: Capital de trabajo requerido | D17: =E6*Supuestos!$D$13 -> 10000000 | E17: =F6*Supuestos!$D$13 -> 10000000 | F17: =G6*Supuestos!$D$13 -> 10000000 | G17: =H6*Supuestos!$D$13 -> 10000000 | H17: =I6*Supuestos!$D$13 -> 10000000 | I17: =J6*Supuestos!$D$13 -> 10000000 | J17: =K6*Supuestos!$D$13 -> 10000000 | K17: =L6*Supuestos!$D$13 -> 10000000 | ... BK17: =BL6*Supuestos!$D$13 -> 14641000 | BL17: =0 -> 0
C18: Variación de capital de trabajo | D18: =-D17 -> -10000000 | E18: =D17-E17 -> 0 | F18: =E17-F17 -> 0 | G18: =F17-G17 -> 0 | H18: =G17-H17 -> 0 | I18: =H17-I17 -> 0 | J18: =I17-J17 -> 0 | K18: =J17-K17 -> 0 | L18: =K17-L17 -> 0 | ... BK18: =BJ17-BK17 -> 0 | BL18: =0 -> 0
C19: Recuperación de capital de trabajo | D19: 0 | E19: =0 -> 0 | F19: =0 -> 0 | G19: =0 -> 0 | H19: =0 -> 0 | I19: =0 -> 0 | J19: =0 -> 0 | K19: =0 -> 0 | L19: =0 -> 0 | ... BK19: =0 -> 0 | BL19: =BK17 -> 14641000
C20: Venta de activos | D20: 0 | E20: =0 -> 0 | F20: =0 -> 0 | G20: =0 -> 0 | H20: =0 -> 0 | I20: =0 -> 0 | J20: =0 -> 0 | K20: =0 -> 0 | L20: =0 -> 0 | ... BK20: =0 -> 0 | BL20: =Supuestos!$D$12 -> 10000000
C21: Valor libro al cierre | D21: 0 | E21: =0 -> 0 | F21: =0 -> 0 | G21: =0 -> 0 | H21: =0 -> 0 | I21: =0 -> 0 | J21: =0 -> 0 | K21: =0 -> 0 | L21: =0 -> 0 | ... BK21: =0 -> 0 | BL21: =MAX(0,-SUM(D16:BL16)+SUM(E10:BL11)) -> 0
C22: Impuesto por venta de activos | D22: 0 | E22: =-MAX(0,E20-E21)*Supuestos!$D$10 -> 0 | F22: =-MAX(0,F20-F21)*Supuestos!$D$10 -> 0 | G22: =-MAX(0,G20-G21)*Supuestos!$D$10 -> 0 | H22: =-MAX(0,H20-H21)*Supuestos!$D$10 -> 0 | I22: =-MAX(0,I20-I21)*Supuestos!$D$10 -> 0 | J22: =-MAX(0,J20-J21)*Supuestos!$D$10 -> 0 | K22: =-MAX(0,K20-K21)*Supuestos!$D$10 -> 0 | L22: =-MAX(0,L20-L21)*Supuestos!$D$10 -> 0 | ... BL22: =-MAX(0,BL20-BL21)*Supuestos!$D$10 -> -2500000
D23: 0
C24: Flujo libre | D24: =SUM(D16,D18) -> -90000000 | E24: =SUM(E14:E16,E18:E20,E22) -> 2708333.3 | F24: =SUM(F14:F16,F18:F20,F22) -> 2708333.3 | G24: =SUM(G14:G16,G18:G20,G22) -> 2708333.3 | H24: =SUM(H14:H16,H18:H20,H22) -> 2708333.3 | I24: =SUM(I14:I16,I18:I20,I22) -> 2708333.3 | J24: =SUM(J14:J16,J18:J20,J22) -> 2708333.3 | K24: =SUM(K14:K16,K18:K20,K22) -> 2708333.3 | L24: =SUM(L14:L16,L18:L20,L22) -> 2708333.3 | ... BL24: =SUM(BL14:BL16,BL18:BL20,BL22) -> 26371073
C25: Factor de descuento | D25: 1 | E25: =1/(1+Supuestos!$D$14)^1 -> 0.9906004 | F25: =1/(1+Supuestos!$D$14)^2 -> 0.98128915 | G25: =1/(1+Supuestos!$D$14)^3 -> 0.97206542 | H25: =1/(1+Supuestos!$D$14)^4 -> 0.96292839 | I25: =1/(1+Supuestos!$D$14)^5 -> 0.95387725 | J25: =1/(1+Supuestos!$D$14)^6 -> 0.94491118 | K25: =1/(1+Supuestos!$D$14)^7 -> 0.93602939 | L25: =1/(1+Supuestos!$D$14)^8 -> 0.92723109 | M25: =1/(1+Supuestos!$D$14)^9 -> 0.91851549 | N25: =1/(1+Supuestos!$D$14)^10 -> 0.90988181 | O25: =1/(1+Supuestos!$D$14)^11 -> 0.90132928 | P25: =1/(1+Supuestos!$D$14)^12 -> 0.89285714 | Q25: =1/(1+Supuestos!$D$14)^13 -> 0.88446464 | R25: =1/(1+Supuestos!$D$14)^14 -> 0.87615103 | S25: =1/(1+Supuestos!$D$14)^15 -> 0.86791555 | T25: =1/(1+Supuestos!$D$14)^16 -> 0.85975749 | U25: =1/(1+Supuestos!$D$14)^17 -> 0.85167612 | V25: =1/(1+Supuestos!$D$14)^18 -> 0.8436707 | W25: =1/(1+Supuestos!$D$14)^19 -> 0.83574053 | X25: =1/(1+Supuestos!$D$14)^20 -> 0.8278849 | Y25: =1/(1+Supuestos!$D$14)^21 -> 0.82010311 | Z25: =1/(1+Supuestos!$D$14)^22 -> 0.81239447 | AA25: =1/(1+Supuestos!$D$14)^23 -> 0.80475829 | AB25: =1/(1+Supuestos!$D$14)^24 -> 0.79719388 | AC25: =1/(1+Supuestos!$D$14)^25 -> 0.78970057 | AD25: =1/(1+Supuestos!$D$14)^26 -> 0.7822777 | AE25: =1/(1+Supuestos!$D$14)^27 -> 0.7749246 | AF25: =1/(1+Supuestos!$D$14)^28 -> 0.76764062 | AG25: =1/(1+Supuestos!$D$14)^29 -> 0.7604251 | AH25: =1/(1+Supuestos!$D$14)^30 -> 0.75327741 | AI25: =1/(1+Supuestos!$D$14)^31 -> 0.7461969 | AJ25: =1/(1+Supuestos!$D$14)^32 -> 0.73918295 | AK25: =1/(1+Supuestos!$D$14)^33 -> 0.73223492 | AL25: =1/(1+Supuestos!$D$14)^34 -> 0.72535221 | AM25: =1/(1+Supuestos!$D$14)^35 -> 0.71853418 | AN25: =1/(1+Supuestos!$D$14)^36 -> 0.71178025 | AO25: =1/(1+Supuestos!$D$14)^37 -> 0.7050898 | AP25: =1/(1+Supuestos!$D$14)^38 -> 0.69846223 | AQ25: =1/(1+Supuestos!$D$14)^39 -> 0.69189697 | AR25: =1/(1+Supuestos!$D$14)^40 -> 0.68539341 | AS25: =1/(1+Supuestos!$D$14)^41 -> 0.67895098 | AT25: =1/(1+Supuestos!$D$14)^42 -> 0.67256912 | AU25: =1/(1+Supuestos!$D$14)^43 -> 0.66624723 | AV25: =1/(1+Supuestos!$D$14)^44 -> 0.65998477 | AW25: =1/(1+Supuestos!$D$14)^45 -> 0.65378118 | AX25: =1/(1+Supuestos!$D$14)^46 -> 0.6476359 | AY25: =1/(1+Supuestos!$D$14)^47 -> 0.64154838 | AZ25: =1/(1+Supuestos!$D$14)^48 -> 0.63551808 | BA25: =1/(1+Supuestos!$D$14)^49 -> 0.62954446 | BB25: =1/(1+Supuestos!$D$14)^50 -> 0.62362699 | BC25: =1/(1+Supuestos!$D$14)^51 -> 0.61776515 | BD25: =1/(1+Supuestos!$D$14)^52 -> 0.6119584 | BE25: =1/(1+Supuestos!$D$14)^53 -> 0.60620624 | BF25: =1/(1+Supuestos!$D$14)^54 -> 0.60050814 | BG25: =1/(1+Supuestos!$D$14)^55 -> 0.5948636 | BH25: =1/(1+Supuestos!$D$14)^56 -> 0.58927212 | BI25: =1/(1+Supuestos!$D$14)^57 -> 0.5837332 | BJ25: =1/(1+Supuestos!$D$14)^58 -> 0.57824634 | BK25: =1/(1+Supuestos!$D$14)^59 -> 0.57281105 | BL25: =1/(1+Supuestos!$D$14)^60 -> 0.56742686
C26: Flujo descontado | D26: =D24 -> -90000000 | E26: =E24*E25 -> 2682876.1 | F26: =F24*F25 -> 2657658.1 | G26: =G24*G25 -> 2632677.2 | H26: =H24*H25 -> 2607931.1 | I26: =I24*I25 -> 2583417.5 | J26: =J24*J25 -> 2559134.5 | K26: =K24*K25 -> 2535079.6 | L26: =L24*L25 -> 2511250.9 | ... BL26: =BL24*BL25 -> 14963655
C27: Flujo acumulado | D27: =D24 -> -90000000 | E27: =D27+E24 -> -87291667 | F27: =E27+F24 -> -84583333 | G27: =F27+G24 -> -81875000 | H27: =G27+H24 -> -79166667 | I27: =H27+I24 -> -76458333 | J27: =I27+J24 -> -73750000 | K27: =J27+K24 -> -71041667 | L27: =K27+L24 -> -68333333 | ... BL27: =BK27+BL24 -> 1.3322959e+08
C28: Flujo descontado acumulado | D28: =D26 -> -90000000 | E28: =D28+E26 -> -87317124 | F28: =E28+F26 -> -84659466 | G28: =F28+G26 -> -82026789 | H28: =G28+H26 -> -79418858 | I28: =H28+I26 -> -76835440 | J28: =I28+J26 -> -74276306 | K28: =J28+K26 -> -71741226 | L28: =K28+L26 -> -69229975 | ... BL28: =BK28+BL26 -> 71510442
C29: Recuperación simple (meses) | D29: 999 | E29: =IF(AND(D27<0,E27>=0),0+ABS(D27)/E24,999) -> 999 | F29: =IF(AND(E27<0,F27>=0),1+ABS(E27)/F24,999) -> 999 | G29: =IF(AND(F27<0,G27>=0),2+ABS(F27)/G24,999) -> 999 | H29: =IF(AND(G27<0,H27>=0),3+ABS(G27)/H24,999) -> 999 | I29: =IF(AND(H27<0,I27>=0),4+ABS(H27)/I24,999) -> 999 | J29: =IF(AND(I27<0,J27>=0),5+ABS(I27)/J24,999) -> 999 | K29: =IF(AND(J27<0,K27>=0),6+ABS(J27)/K24,999) -> 999 | L29: =IF(AND(K27<0,L27>=0),7+ABS(K27)/L24,999) -> 999 | M29: =IF(AND(L27<0,M27>=0),8+ABS(L27)/M24,999) -> 999 | N29: =IF(AND(M27<0,N27>=0),9+ABS(M27)/N24,999) -> 999 | O29: =IF(AND(N27<0,O27>=0),10+ABS(N27)/O24,999) -> 999 | P29: =IF(AND(O27<0,P27>=0),11+ABS(O27)/P24,999) -> 999 | Q29: =IF(AND(P27<0,Q27>=0),12+ABS(P27)/Q24,999) -> 999 | R29: =IF(AND(Q27<0,R27>=0),13+ABS(Q27)/R24,999) -> 999 | S29: =IF(AND(R27<0,S27>=0),14+ABS(R27)/S24,999) -> 999 | T29: =IF(AND(S27<0,T27>=0),15+ABS(S27)/T24,999) -> 999 | U29: =IF(AND(T27<0,U27>=0),16+ABS(T27)/U24,999) -> 999 | V29: =IF(AND(U27<0,V27>=0),17+ABS(U27)/V24,999) -> 999 | W29: =IF(AND(V27<0,W27>=0),18+ABS(V27)/W24,999) -> 999 | X29: =IF(AND(W27<0,X27>=0),19+ABS(W27)/X24,999) -> 999 | Y29: =IF(AND(X27<0,Y27>=0),20+ABS(X27)/Y24,999) -> 999 | Z29: =IF(AND(Y27<0,Z27>=0),21+ABS(Y27)/Z24,999) -> 999 | AA29: =IF(AND(Z27<0,AA27>=0),22+ABS(Z27)/AA24,999) -> 999 | AB29: =IF(AND(AA27<0,AB27>=0),23+ABS(AA27)/AB24,999) -> 999 | AC29: =IF(AND(AB27<0,AC27>=0),24+ABS(AB27)/AC24,999) -> 999 | AD29: =IF(AND(AC27<0,AD27>=0),25+ABS(AC27)/AD24,999) -> 999 | AE29: =IF(AND(AD27<0,AE27>=0),26+ABS(AD27)/AE24,999) -> 999 | AF29: =IF(AND(AE27<0,AF27>=0),27+ABS(AE27)/AF24,999) -> 999 | AG29: =IF(AND(AF27<0,AG27>=0),28+ABS(AF27)/AG24,999) -> 999 | AH29: =IF(AND(AG27<0,AH27>=0),29+ABS(AG27)/AH24,999) -> 999 | AI29: =IF(AND(AH27<0,AI27>=0),30+ABS(AH27)/AI24,999) -> 30.857775 | AJ29: =IF(AND(AI27<0,AJ27>=0),31+ABS(AI27)/AJ24,999) -> 999 | AK29: =IF(AND(AJ27<0,AK27>=0),32+ABS(AJ27)/AK24,999) -> 999 | AL29: =IF(AND(AK27<0,AL27>=0),33+ABS(AK27)/AL24,999) -> 999 | AM29: =IF(AND(AL27<0,AM27>=0),34+ABS(AL27)/AM24,999) -> 999 | AN29: =IF(AND(AM27<0,AN27>=0),35+ABS(AM27)/AN24,999) -> 999 | AO29: =IF(AND(AN27<0,AO27>=0),36+ABS(AN27)/AO24,999) -> 999 | AP29: =IF(AND(AO27<0,AP27>=0),37+ABS(AO27)/AP24,999) -> 999 | AQ29: =IF(AND(AP27<0,AQ27>=0),38+ABS(AP27)/AQ24,999) -> 999 | AR29: =IF(AND(AQ27<0,AR27>=0),39+ABS(AQ27)/AR24,999) -> 999 | AS29: =IF(AND(AR27<0,AS27>=0),40+ABS(AR27)/AS24,999) -> 999 | AT29: =IF(AND(AS27<0,AT27>=0),41+ABS(AS27)/AT24,999) -> 999 | AU29: =IF(AND(AT27<0,AU27>=0),42+ABS(AT27)/AU24,999) -> 999 | AV29: =IF(AND(AU27<0,AV27>=0),43+ABS(AU27)/AV24,999) -> 999 | AW29: =IF(AND(AV27<0,AW27>=0),44+ABS(AV27)/AW24,999) -> 999 | AX29: =IF(AND(AW27<0,AX27>=0),45+ABS(AW27)/AX24,999) -> 999 | AY29: =IF(AND(AX27<0,AY27>=0),46+ABS(AX27)/AY24,999) -> 999 | AZ29: =IF(AND(AY27<0,AZ27>=0),47+ABS(AY27)/AZ24,999) -> 999 | BA29: =IF(AND(AZ27<0,BA27>=0),48+ABS(AZ27)/BA24,999) -> 999 | BB29: =IF(AND(BA27<0,BB27>=0),49+ABS(BA27)/BB24,999) -> 999 | BC29: =IF(AND(BB27<0,BC27>=0),50+ABS(BB27)/BC24,999) -> 999 | BD29: =IF(AND(BC27<0,BD27>=0),51+ABS(BC27)/BD24,999) -> 999 | BE29: =IF(AND(BD27<0,BE27>=0),52+ABS(BD27)/BE24,999) -> 999 | BF29: =IF(AND(BE27<0,BF27>=0),53+ABS(BE27)/BF24,999) -> 999 | BG29: =IF(AND(BF27<0,BG27>=0),54+ABS(BF27)/BG24,999) -> 999 | BH29: =IF(AND(BG27<0,BH27>=0),55+ABS(BG27)/BH24,999) -> 999 | BI29: =IF(AND(BH27<0,BI27>=0),56+ABS(BH27)/BI24,999) -> 999 | BJ29: =IF(AND(BI27<0,BJ27>=0),57+ABS(BI27)/BJ24,999) -> 999 | BK29: =IF(AND(BJ27<0,BK27>=0),58+ABS(BJ27)/BK24,999) -> 999 | BL29: =IF(AND(BK27<0,BL27>=0),59+ABS(BK27)/BL24,999) -> 999
C30: Recuperación descontada (meses) | D30: 999 | E30: =IF(AND(D28<0,E28>=0),0+ABS(D28)/E26,999) -> 999 | F30: =IF(AND(E28<0,F28>=0),1+ABS(E28)/F26,999) -> 999 | G30: =IF(AND(F28<0,G28>=0),2+ABS(F28)/G26,999) -> 999 | H30: =IF(AND(G28<0,H28>=0),3+ABS(G28)/H26,999) -> 999 | I30: =IF(AND(H28<0,I28>=0),4+ABS(H28)/I26,999) -> 999 | J30: =IF(AND(I28<0,J28>=0),5+ABS(I28)/J26,999) -> 999 | K30: =IF(AND(J28<0,K28>=0),6+ABS(J28)/K26,999) -> 999 | L30: =IF(AND(K28<0,L28>=0),7+ABS(K28)/L26,999) -> 999 | M30: =IF(AND(L28<0,M28>=0),8+ABS(L28)/M26,999) -> 999 | N30: =IF(AND(M28<0,N28>=0),9+ABS(M28)/N26,999) -> 999 | O30: =IF(AND(N28<0,O28>=0),10+ABS(N28)/O26,999) -> 999 | P30: =IF(AND(O28<0,P28>=0),11+ABS(O28)/P26,999) -> 999 | Q30: =IF(AND(P28<0,Q28>=0),12+ABS(P28)/Q26,999) -> 999 | R30: =IF(AND(Q28<0,R28>=0),13+ABS(Q28)/R26,999) -> 999 | S30: =IF(AND(R28<0,S28>=0),14+ABS(R28)/S26,999) -> 999 | T30: =IF(AND(S28<0,T28>=0),15+ABS(S28)/T26,999) -> 999 | U30: =IF(AND(T28<0,U28>=0),16+ABS(T28)/U26,999) -> 999 | V30: =IF(AND(U28<0,V28>=0),17+ABS(U28)/V26,999) -> 999 | W30: =IF(AND(V28<0,W28>=0),18+ABS(V28)/W26,999) -> 999 | X30: =IF(AND(W28<0,X28>=0),19+ABS(W28)/X26,999) -> 999 | Y30: =IF(AND(X28<0,Y28>=0),20+ABS(X28)/Y26,999) -> 999 | Z30: =IF(AND(Y28<0,Z28>=0),21+ABS(Y28)/Z26,999) -> 999 | AA30: =IF(AND(Z28<0,AA28>=0),22+ABS(Z28)/AA26,999) -> 999 | AB30: =IF(AND(AA28<0,AB28>=0),23+ABS(AA28)/AB26,999) -> 999 | AC30: =IF(AND(AB28<0,AC28>=0),24+ABS(AB28)/AC26,999) -> 999 | AD30: =IF(AND(AC28<0,AD28>=0),25+ABS(AC28)/AD26,999) -> 999 | AE30: =IF(AND(AD28<0,AE28>=0),26+ABS(AD28)/AE26,999) -> 999 | AF30: =IF(AND(AE28<0,AF28>=0),27+ABS(AE28)/AF26,999) -> 999 | AG30: =IF(AND(AF28<0,AG28>=0),28+ABS(AF28)/AG26,999) -> 999 | AH30: =IF(AND(AG28<0,AH28>=0),29+ABS(AG28)/AH26,999) -> 999 | AI30: =IF(AND(AH28<0,AI28>=0),30+ABS(AH28)/AI26,999) -> 999 | AJ30: =IF(AND(AI28<0,AJ28>=0),31+ABS(AI28)/AJ26,999) -> 999 | AK30: =IF(AND(AJ28<0,AK28>=0),32+ABS(AJ28)/AK26,999) -> 999 | AL30: =IF(AND(AK28<0,AL28>=0),33+ABS(AK28)/AL26,999) -> 999 | AM30: =IF(AND(AL28<0,AM28>=0),34+ABS(AL28)/AM26,999) -> 999 | AN30: =IF(AND(AM28<0,AN28>=0),35+ABS(AM28)/AN26,999) -> 999 | AO30: =IF(AND(AN28<0,AO28>=0),36+ABS(AN28)/AO26,999) -> 36.373969 | AP30: =IF(AND(AO28<0,AP28>=0),37+ABS(AO28)/AP26,999) -> 999 | AQ30: =IF(AND(AP28<0,AQ28>=0),38+ABS(AP28)/AQ26,999) -> 999 | AR30: =IF(AND(AQ28<0,AR28>=0),39+ABS(AQ28)/AR26,999) -> 999 | AS30: =IF(AND(AR28<0,AS28>=0),40+ABS(AR28)/AS26,999) -> 999 | AT30: =IF(AND(AS28<0,AT28>=0),41+ABS(AS28)/AT26,999) -> 999 | AU30: =IF(AND(AT28<0,AU28>=0),42+ABS(AT28)/AU26,999) -> 999 | AV30: =IF(AND(AU28<0,AV28>=0),43+ABS(AU28)/AV26,999) -> 999 | AW30: =IF(AND(AV28<0,AW28>=0),44+ABS(AV28)/AW26,999) -> 999 | AX30: =IF(AND(AW28<0,AX28>=0),45+ABS(AW28)/AX26,999) -> 999 | AY30: =IF(AND(AX28<0,AY28>=0),46+ABS(AX28)/AY26,999) -> 999 | AZ30: =IF(AND(AY28<0,AZ28>=0),47+ABS(AY28)/AZ26,999) -> 999 | BA30: =IF(AND(AZ28<0,BA28>=0),48+ABS(AZ28)/BA26,999) -> 999 | BB30: =IF(AND(BA28<0,BB28>=0),49+ABS(BA28)/BB26,999) -> 999 | BC30: =IF(AND(BB28<0,BC28>=0),50+ABS(BB28)/BC26,999) -> 999 | BD30: =IF(AND(BC28<0,BD28>=0),51+ABS(BC28)/BD26,999) -> 999 | BE30: =IF(AND(BD28<0,BE28>=0),52+ABS(BD28)/BE26,999) -> 999 | BF30: =IF(AND(BE28<0,BF28>=0),53+ABS(BE28)/BF26,999) -> 999 | BG30: =IF(AND(BF28<0,BG28>=0),54+ABS(BF28)/BG26,999) -> 999 | BH30: =IF(AND(BG28<0,BH28>=0),55+ABS(BG28)/BH26,999) -> 999 | BI30: =IF(AND(BH28<0,BI28>=0),56+ABS(BH28)/BI26,999) -> 999 | BJ30: =IF(AND(BI28<0,BJ28>=0),57+ABS(BI28)/BJ26,999) -> 999 | BK30: =IF(AND(BJ28<0,BK28>=0),58+ABS(BJ28)/BK26,999) -> 999 | BL30: =IF(AND(BK28<0,BL28>=0),59+ABS(BK28)/BL26,999) -> 999
C31: Cambio de signo del flujo | D31: 0 | E31: =IF(AND(E32<>0,D32<>0,E32<>D32),1,0) -> 1 | F31: =IF(AND(F32<>0,E32<>0,F32<>E32),1,0) -> 0 | G31: =IF(AND(G32<>0,F32<>0,G32<>F32),1,0) -> 0 | H31: =IF(AND(H32<>0,G32<>0,H32<>G32),1,0) -> 0 | I31: =IF(AND(I32<>0,H32<>0,I32<>H32),1,0) -> 0 | J31: =IF(AND(J32<>0,I32<>0,J32<>I32),1,0) -> 0 | K31: =IF(AND(K32<>0,J32<>0,K32<>J32),1,0) -> 0 | L31: =IF(AND(L32<>0,K32<>0,L32<>K32),1,0) -> 0 | ... BL31: =IF(AND(BL32<>0,BK32<>0,BL32<>BK32),1,0) -> 0
C32: Último signo no nulo (auxiliar) | D32: =SIGN(D24) -> -1 | E32: =IF(E24=0,D32,SIGN(E24)) -> 1 | F32: =IF(F24=0,E32,SIGN(F24)) -> 1 | G32: =IF(G24=0,F32,SIGN(G24)) -> 1 | H32: =IF(H24=0,G32,SIGN(H24)) -> 1 | I32: =IF(I24=0,H32,SIGN(I24)) -> 1 | J32: =IF(J24=0,I32,SIGN(J24)) -> 1 | K32: =IF(K24=0,J32,SIGN(K24)) -> 1 | L32: =IF(L24=0,K32,SIGN(L24)) -> 1 | ... BL32: =IF(BL24=0,BK32,SIGN(BL24)) -> 1

Sheet Cuentas
C2: Cuentas
C4: CUENTAS EDITABLES
C5: Cuenta / concepto | D5: Categoría | E5: Mes 0 | F5: Mes 1 | G5: Mes 2 | H5: Mes 3 | I5: Mes 4 | J5: Mes 5 | K5: Mes 6 | L5: Mes 7 | M5: Mes 8 | N5: Mes 9 | O5: Mes 10 | P5: Mes 11 | Q5: Mes 12 | R5: Mes 13 | S5: Mes 14 | T5: Mes 15 | U5: Mes 16 | V5: Mes 17 | W5: Mes 18 | X5: Mes 19 | Y5: Mes 20 | Z5: Mes 21 | AA5: Mes 22 | AB5: Mes 23 | AC5: Mes 24 | AD5: Mes 25 | AE5: Mes 26 | AF5: Mes 27 | AG5: Mes 28 | AH5: Mes 29 | AI5: Mes 30 | AJ5: Mes 31 | AK5: Mes 32 | AL5: Mes 33 | AM5: Mes 34 | AN5: Mes 35 | AO5: Mes 36 | AP5: Mes 37 | AQ5: Mes 38 | AR5: Mes 39 | AS5: Mes 40 | AT5: Mes 41 | AU5: Mes 42 | AV5: Mes 43 | AW5: Mes 44 | AX5: Mes 45 | AY5: Mes 46 | AZ5: Mes 47 | BA5: Mes 48 | BB5: Mes 49 | BC5: Mes 50 | BD5: Mes 51 | BE5: Mes 52 | BF5: Mes 53 | BG5: Mes 54 | BH5: Mes 55 | BI5: Mes 56 | BJ5: Mes 57 | BK5: Mes 58 | BL5: Mes 59 | BM5: Mes 60
C6: Venta de servicios | D6: Ingreso | E6: 0 | F6: 8333333.3 | G6: 8333333.3 | H6: 8333333.3 | I6: 8333333.3 | J6: 8333333.3 | K6: 8333333.3 | L6: 8333333.3 | M6: 8333333.3 | N6: 8333333.3 | O6: 8333333.3 | P6: 8333333.3 | Q6: 8333333.3 | R6: 9166666.7 | S6: 9166666.7 | T6: 9166666.7 | U6: 9166666.7 | V6: 9166666.7 | W6: 9166666.7 | X6: 9166666.7 | Y6: 9166666.7 | Z6: 9166666.7 | AA6: 9166666.7 | AB6: 9166666.7 | AC6: 9166666.7 | AD6: 10083333 | AE6: 10083333 | AF6: 10083333 | AG6: 10083333 | AH6: 10083333 | AI6: 10083333 | AJ6: 10083333 | AK6: 10083333 | AL6: 10083333 | AM6: 10083333 | AN6: 10083333 | AO6: 10083333 | AP6: 11091667 | AQ6: 11091667 | AR6: 11091667 | AS6: 11091667 | AT6: 11091667 | AU6: 11091667 | AV6: 11091667 | AW6: 11091667 | AX6: 11091667 | AY6: 11091667 | AZ6: 11091667 | BA6: 11091667 | BB6: 12200833 | BC6: 12200833 | BD6: 12200833 | BE6: 12200833 | BF6: 12200833 | BG6: 12200833 | BH6: 12200833 | BI6: 12200833 | BJ6: 12200833 | BK6: 12200833 | BL6: 12200833 | BM6: 12200833
C7: Otros ingresos | D7: Ingreso | E7: 0 | F7: 0 | G7: 0 | H7: 0 | I7: 0 | J7: 0 | K7: 0 | L7: 0 | M7: 0 | N7: 0 | O7: 0 | P7: 0 | Q7: 0 | R7: 0 | S7: 0 | T7: 0 | U7: 0 | V7: 0 | W7: 0 | X7: 0 | Y7: 0 | Z7: 0 | AA7: 0 | AB7: 0 | AC7: 0 | AD7: 0 | AE7: 0 | AF7: 0 | AG7: 0 | AH7: 0 | AI7: 0 | AJ7: 0 | AK7: 0 | AL7: 0 | AM7: 0 | AN7: 0 | AO7: 0 | AP7: 0 | AQ7: 0 | AR7: 0 | AS7: 0 | AT7: 0 | AU7: 0 | AV7: 0 | AW7: 0 | AX7: 0 | AY7: 0 | AZ7: 0 | BA7: 0 | BB7: 0 | BC7: 0 | BD7: 0 | BE7: 0 | BF7: 0 | BG7: 0 | BH7: 0 | BI7: 0 | BJ7: 0 | BK7: 0 | BL7: 0 | BM7: 0
C8: Remuneraciones | D8: Costo fijo | E8: 0 | F8: 1500000 | G8: 1500000 | H8: 1500000 | I8: 1500000 | J8: 1500000 | K8: 1500000 | L8: 1500000 | M8: 1500000 | N8: 1500000 | O8: 1500000 | P8: 1500000 | Q8: 1500000 | R8: 1575000 | S8: 1575000 | T8: 1575000 | U8: 1575000 | V8: 1575000 | W8: 1575000 | X8: 1575000 | Y8: 1575000 | Z8: 1575000 | AA8: 1575000 | AB8: 1575000 | AC8: 1575000 | AD8: 1653750 | AE8: 1653750 | AF8: 1653750 | AG8: 1653750 | AH8: 1653750 | AI8: 1653750 | AJ8: 1653750 | AK8: 1653750 | AL8: 1653750 | AM8: 1653750 | AN8: 1653750 | AO8: 1653750 | AP8: 1736437.5 | AQ8: 1736437.5 | AR8: 1736437.5 | AS8: 1736437.5 | AT8: 1736437.5 | AU8: 1736437.5 | AV8: 1736437.5 | AW8: 1736437.5 | AX8: 1736437.5 | AY8: 1736437.5 | AZ8: 1736437.5 | BA8: 1736437.5 | BB8: 1823259.4 | BC8: 1823259.4 | BD8: 1823259.4 | BE8: 1823259.4 | BF8: 1823259.4 | BG8: 1823259.4 | BH8: 1823259.4 | BI8: 1823259.4 | BJ8: 1823259.4 | BK8: 1823259.4 | BL8: 1823259.4 | BM8: 1823259.4
C9: Arriendo | D9: Costo fijo | E9: 0 | F9: 500000 | G9: 500000 | H9: 500000 | I9: 500000 | J9: 500000 | K9: 500000 | L9: 500000 | M9: 500000 | N9: 500000 | O9: 500000 | P9: 500000 | Q9: 500000 | R9: 525000 | S9: 525000 | T9: 525000 | U9: 525000 | V9: 525000 | W9: 525000 | X9: 525000 | Y9: 525000 | Z9: 525000 | AA9: 525000 | AB9: 525000 | AC9: 525000 | AD9: 551250 | AE9: 551250 | AF9: 551250 | AG9: 551250 | AH9: 551250 | AI9: 551250 | AJ9: 551250 | AK9: 551250 | AL9: 551250 | AM9: 551250 | AN9: 551250 | AO9: 551250 | AP9: 578812.5 | AQ9: 578812.5 | AR9: 578812.5 | AS9: 578812.5 | AT9: 578812.5 | AU9: 578812.5 | AV9: 578812.5 | AW9: 578812.5 | AX9: 578812.5 | AY9: 578812.5 | AZ9: 578812.5 | BA9: 578812.5 | BB9: 607753.12 | BC9: 607753.12 | BD9: 607753.12 | BE9: 607753.12 | BF9: 607753.12 | BG9: 607753.12 | BH9: 607753.12 | BI9: 607753.12 | BJ9: 607753.12 | BK9: 607753.12 | BL9: 607753.12 | BM9: 607753.12
C10: Administración | D10: Costo fijo | E10: 0 | F10: 250000 | G10: 250000 | H10: 250000 | I10: 250000 | J10: 250000 | K10: 250000 | L10: 250000 | M10: 250000 | N10: 250000 | O10: 250000 | P10: 250000 | Q10: 250000 | R10: 262500 | S10: 262500 | T10: 262500 | U10: 262500 | V10: 262500 | W10: 262500 | X10: 262500 | Y10: 262500 | Z10: 262500 | AA10: 262500 | AB10: 262500 | AC10: 262500 | AD10: 275625 | AE10: 275625 | AF10: 275625 | AG10: 275625 | AH10: 275625 | AI10: 275625 | AJ10: 275625 | AK10: 275625 | AL10: 275625 | AM10: 275625 | AN10: 275625 | AO10: 275625 | AP10: 289406.25 | AQ10: 289406.25 | AR10: 289406.25 | AS10: 289406.25 | AT10: 289406.25 | AU10: 289406.25 | AV10: 289406.25 | AW10: 289406.25 | AX10: 289406.25 | AY10: 289406.25 | AZ10: 289406.25 | BA10: 289406.25 | BB10: 303876.56 | BC10: 303876.56 | BD10: 303876.56 | BE10: 303876.56 | BF10: 303876.56 | BG10: 303876.56 | BH10: 303876.56 | BI10: 303876.56 | BJ10: 303876.56 | BK10: 303876.56 | BL10: 303876.56 | BM10: 303876.56
C11: Equipos e instalaciones | D11: Inversión | E11: 70000000 | F11: 0 | G11: 0 | H11: 0 | I11: 0 | J11: 0 | K11: 0 | L11: 0 | M11: 0 | N11: 0 | O11: 0 | P11: 0 | Q11: 0 | R11: 0 | S11: 0 | T11: 0 | U11: 0 | V11: 0 | W11: 0 | X11: 0 | Y11: 0 | Z11: 0 | AA11: 0 | AB11: 0 | AC11: 0 | AD11: 0 | AE11: 0 | AF11: 0 | AG11: 0 | AH11: 0 | AI11: 0 | AJ11: 0 | AK11: 0 | AL11: 0 | AM11: 0 | AN11: 0 | AO11: 0 | AP11: 0 | AQ11: 0 | AR11: 0 | AS11: 0 | AT11: 0 | AU11: 0 | AV11: 0 | AW11: 0 | AX11: 0 | AY11: 0 | AZ11: 0 | BA11: 0 | BB11: 0 | BC11: 0 | BD11: 0 | BE11: 0 | BF11: 0 | BG11: 0 | BH11: 0 | BI11: 0 | BJ11: 0 | BK11: 0 | BL11: 0 | BM11: 0
C12: Puesta en marcha capitalizable | D12: Inversión | E12: 10000000 | F12: 0 | G12: 0 | H12: 0 | I12: 0 | J12: 0 | K12: 0 | L12: 0 | M12: 0 | N12: 0 | O12: 0 | P12: 0 | Q12: 0 | R12: 0 | S12: 0 | T12: 0 | U12: 0 | V12: 0 | W12: 0 | X12: 0 | Y12: 0 | Z12: 0 | AA12: 0 | AB12: 0 | AC12: 0 | AD12: 0 | AE12: 0 | AF12: 0 | AG12: 0 | AH12: 0 | AI12: 0 | AJ12: 0 | AK12: 0 | AL12: 0 | AM12: 0 | AN12: 0 | AO12: 0 | AP12: 0 | AQ12: 0 | AR12: 0 | AS12: 0 | AT12: 0 | AU12: 0 | AV12: 0 | AW12: 0 | AX12: 0 | AY12: 0 | AZ12: 0 | BA12: 0 | BB12: 0 | BC12: 0 | BD12: 0 | BE12: 0 | BF12: 0 | BG12: 0 | BH12: 0 | BI12: 0 | BJ12: 0 | BK12: 0 | BL12: 0 | BM12: 0
D13: Ingreso | E13: 0 | F13: 0 | G13: 0 | H13: 0 | I13: 0 | J13: 0 | K13: 0 | L13: 0 | M13: 0 | N13: 0 | O13: 0 | P13: 0 | Q13: 0 | R13: 0 | S13: 0 | T13: 0 | U13: 0 | V13: 0 | W13: 0 | X13: 0 | Y13: 0 | Z13: 0 | AA13: 0 | AB13: 0 | AC13: 0 | AD13: 0 | AE13: 0 | AF13: 0 | AG13: 0 | AH13: 0 | AI13: 0 | AJ13: 0 | AK13: 0 | AL13: 0 | AM13: 0 | AN13: 0 | AO13: 0 | AP13: 0 | AQ13: 0 | AR13: 0 | AS13: 0 | AT13: 0 | AU13: 0 | AV13: 0 | AW13: 0 | AX13: 0 | AY13: 0 | AZ13: 0 | BA13: 0 | BB13: 0 | BC13: 0 | BD13: 0 | BE13: 0 | BF13: 0 | BG13: 0 | BH13: 0 | BI13: 0 | BJ13: 0 | BK13: 0 | BL13: 0 | BM13: 0
D14: Ingreso | E14: 0 | F14: 0 | G14: 0 | H14: 0 | I14: 0 | J14: 0 | K14: 0 | L14: 0 | M14: 0 | N14: 0 | O14: 0 | P14: 0 | Q14: 0 | R14: 0 | S14: 0 | T14: 0 | U14: 0 | V14: 0 | W14: 0 | X14: 0 | Y14: 0 | Z14: 0 | AA14: 0 | AB14: 0 | AC14: 0 | AD14: 0 | AE14: 0 | AF14: 0 | AG14: 0 | AH14: 0 | AI14: 0 | AJ14: 0 | AK14: 0 | AL14: 0 | AM14: 0 | AN14: 0 | AO14: 0 | AP14: 0 | AQ14: 0 | AR14: 0 | AS14: 0 | AT14: 0 | AU14: 0 | AV14: 0 | AW14: 0 | AX14: 0 | AY14: 0 | AZ14: 0 | BA14: 0 | BB14: 0 | BC14: 0 | BD14: 0 | BE14: 0 | BF14: 0 | BG14: 0 | BH14: 0 | BI14: 0 | BJ14: 0 | BK14: 0 | BL14: 0 | BM14: 0
D15: Ingreso | E15: 0 | F15: 0 | G15: 0 | H15: 0 | I15: 0 | J15: 0 | K15: 0 | L15: 0 | M15: 0 | N15: 0 | O15: 0 | P15: 0 | Q15: 0 | R15: 0 | S15: 0 | T15: 0 | U15: 0 | V15: 0 | W15: 0 | X15: 0 | Y15: 0 | Z15: 0 | AA15: 0 | AB15: 0 | AC15: 0 | AD15: 0 | AE15: 0 | AF15: 0 | AG15: 0 | AH15: 0 | AI15: 0 | AJ15: 0 | AK15: 0 | AL15: 0 | AM15: 0 | AN15: 0 | AO15: 0 | AP15: 0 | AQ15: 0 | AR15: 0 | AS15: 0 | AT15: 0 | AU15: 0 | AV15: 0 | AW15: 0 | AX15: 0 | AY15: 0 | AZ15: 0 | BA15: 0 | BB15: 0 | BC15: 0 | BD15: 0 | BE15: 0 | BF15: 0 | BG15: 0 | BH15: 0 | BI15: 0 | BJ15: 0 | BK15: 0 | BL15: 0 | BM15: 0
D16: Ingreso | E16: 0 | F16: 0 | G16: 0 | H16: 0 | I16: 0 | J16: 0 | K16: 0 | L16: 0 | M16: 0 | N16: 0 | O16: 0 | P16: 0 | Q16: 0 | R16: 0 | S16: 0 | T16: 0 | U16: 0 | V16: 0 | W16: 0 | X16: 0 | Y16: 0 | Z16: 0 | AA16: 0 | AB16: 0 | AC16: 0 | AD16: 0 | AE16: 0 | AF16: 0 | AG16: 0 | AH16: 0 | AI16: 0 | AJ16: 0 | AK16: 0 | AL16: 0 | AM16: 0 | AN16: 0 | AO16: 0 | AP16: 0 | AQ16: 0 | AR16: 0 | AS16: 0 | AT16: 0 | AU16: 0 | AV16: 0 | AW16: 0 | AX16: 0 | AY16: 0 | AZ16: 0 | BA16: 0 | BB16: 0 | BC16: 0 | BD16: 0 | BE16: 0 | BF16: 0 | BG16: 0 | BH16: 0 | BI16: 0 | BJ16: 0 | BK16: 0 | BL16: 0 | BM16: 0
D17: Ingreso | E17: 0 | F17: 0 | G17: 0 | H17: 0 | I17: 0 | J17: 0 | K17: 0 | L17: 0 | M17: 0 | N17: 0 | O17: 0 | P17: 0 | Q17: 0 | R17: 0 | S17: 0 | T17: 0 | U17: 0 | V17: 0 | W17: 0 | X17: 0 | Y17: 0 | Z17: 0 | AA17: 0 | AB17: 0 | AC17: 0 | AD17: 0 | AE17: 0 | AF17: 0 | AG17: 0 | AH17: 0 | AI17: 0 | AJ17: 0 | AK17: 0 | AL17: 0 | AM17: 0 | AN17: 0 | AO17: 0 | AP17: 0 | AQ17: 0 | AR17: 0 | AS17: 0 | AT17: 0 | AU17: 0 | AV17: 0 | AW17: 0 | AX17: 0 | AY17: 0 | AZ17: 0 | BA17: 0 | BB17: 0 | BC17: 0 | BD17: 0 | BE17: 0 | BF17: 0 | BG17: 0 | BH17: 0 | BI17: 0 | BJ17: 0 | BK17: 0 | BL17: 0 | BM17: 0
D18: Ingreso | E18: 0 | F18: 0 | G18: 0 | H18: 0 | I18: 0 | J18: 0 | K18: 0 | L18: 0 | M18: 0 | N18: 0 | O18: 0 | P18: 0 | Q18: 0 | R18: 0 | S18: 0 | T18: 0 | U18: 0 | V18: 0 | W18: 0 | X18: 0 | Y18: 0 | Z18: 0 | AA18: 0 | AB18: 0 | AC18: 0 | AD18: 0 | AE18: 0 | AF18: 0 | AG18: 0 | AH18: 0 | AI18: 0 | AJ18: 0 | AK18: 0 | AL18: 0 | AM18: 0 | AN18: 0 | AO18: 0 | AP18: 0 | AQ18: 0 | AR18: 0 | AS18: 0 | AT18: 0 | AU18: 0 | AV18: 0 | AW18: 0 | AX18: 0 | AY18: 0 | AZ18: 0 | BA18: 0 | BB18: 0 | BC18: 0 | BD18: 0 | BE18: 0 | BF18: 0 | BG18: 0 | BH18: 0 | BI18: 0 | BJ18: 0 | BK18: 0 | BL18: 0 | BM18: 0
D19: Ingreso | E19: 0 | F19: 0 | G19: 0 | H19: 0 | I19: 0 | J19: 0 | K19: 0 | L19: 0 | M19: 0 | N19: 0 | O19: 0 | P19: 0 | Q19: 0 | R19: 0 | S19: 0 | T19: 0 | U19: 0 | V19: 0 | W19: 0 | X19: 0 | Y19: 0 | Z19: 0 | AA19: 0 | AB19: 0 | AC19: 0 | AD19: 0 | AE19: 0 | AF19: 0 | AG19: 0 | AH19: 0 | AI19: 0 | AJ19: 0 | AK19: 0 | AL19: 0 | AM19: 0 | AN19: 0 | AO19: 0 | AP19: 0 | AQ19: 0 | AR19: 0 | AS19: 0 | AT19: 0 | AU19: 0 | AV19: 0 | AW19: 0 | AX19: 0 | AY19: 0 | AZ19: 0 | BA19: 0 | BB19: 0 | BC19: 0 | BD19: 0 | BE19: 0 | BF19: 0 | BG19: 0 | BH19: 0 | BI19: 0 | BJ19: 0 | BK19: 0 | BL19: 0 | BM19: 0
D20: Ingreso | E20: 0 | F20: 0 | G20: 0 | H20: 0 | I20: 0 | J20: 0 | K20: 0 | L20: 0 | M20: 0 | N20: 0 | O20: 0 | P20: 0 | Q20: 0 | R20: 0 | S20: 0 | T20: 0 | U20: 0 | V20: 0 | W20: 0 | X20: 0 | Y20: 0 | Z20: 0 | AA20: 0 | AB20: 0 | AC20: 0 | AD20: 0 | AE20: 0 | AF20: 0 | AG20: 0 | AH20: 0 | AI20: 0 | AJ20: 0 | AK20: 0 | AL20: 0 | AM20: 0 | AN20: 0 | AO20: 0 | AP20: 0 | AQ20: 0 | AR20: 0 | AS20: 0 | AT20: 0 | AU20: 0 | AV20: 0 | AW20: 0 | AX20: 0 | AY20: 0 | AZ20: 0 | BA20: 0 | BB20: 0 | BC20: 0 | BD20: 0 | BE20: 0 | BF20: 0 | BG20: 0 | BH20: 0 | BI20: 0 | BJ20: 0 | BK20: 0 | BL20: 0 | BM20: 0
D21: Ingreso | E21: 0 | F21: 0 | G21: 0 | H21: 0 | I21: 0 | J21: 0 | K21: 0 | L21: 0 | M21: 0 | N21: 0 | O21: 0 | P21: 0 | Q21: 0 | R21: 0 | S21: 0 | T21: 0 | U21: 0 | V21: 0 | W21: 0 | X21: 0 | Y21: 0 | Z21: 0 | AA21: 0 | AB21: 0 | AC21: 0 | AD21: 0 | AE21: 0 | AF21: 0 | AG21: 0 | AH21: 0 | AI21: 0 | AJ21: 0 | AK21: 0 | AL21: 0 | AM21: 0 | AN21: 0 | AO21: 0 | AP21: 0 | AQ21: 0 | AR21: 0 | AS21: 0 | AT21: 0 | AU21: 0 | AV21: 0 | AW21: 0 | AX21: 0 | AY21: 0 | AZ21: 0 | BA21: 0 | BB21: 0 | BC21: 0 | BD21: 0 | BE21: 0 | BF21: 0 | BG21: 0 | BH21: 0 | BI21: 0 | BJ21: 0 | BK21: 0 | BL21: 0 | BM21: 0
D22: Ingreso | E22: 0 | F22: 0 | G22: 0 | H22: 0 | I22: 0 | J22: 0 | K22: 0 | L22: 0 | M22: 0 | N22: 0 | O22: 0 | P22: 0 | Q22: 0 | R22: 0 | S22: 0 | T22: 0 | U22: 0 | V22: 0 | W22: 0 | X22: 0 | Y22: 0 | Z22: 0 | AA22: 0 | AB22: 0 | AC22: 0 | AD22: 0 | AE22: 0 | AF22: 0 | AG22: 0 | AH22: 0 | AI22: 0 | AJ22: 0 | AK22: 0 | AL22: 0 | AM22: 0 | AN22: 0 | AO22: 0 | AP22: 0 | AQ22: 0 | AR22: 0 | AS22: 0 | AT22: 0 | AU22: 0 | AV22: 0 | AW22: 0 | AX22: 0 | AY22: 0 | AZ22: 0 | BA22: 0 | BB22: 0 | BC22: 0 | BD22: 0 | BE22: 0 | BF22: 0 | BG22: 0 | BH22: 0 | BI22: 0 | BJ22: 0 | BK22: 0 | BL22: 0 | BM22: 0
D23: Ingreso | E23: 0 | F23: 0 | G23: 0 | H23: 0 | I23: 0 | J23: 0 | K23: 0 | L23: 0 | M23: 0 | N23: 0 | O23: 0 | P23: 0 | Q23: 0 | R23: 0 | S23: 0 | T23: 0 | U23: 0 | V23: 0 | W23: 0 | X23: 0 | Y23: 0 | Z23: 0 | AA23: 0 | AB23: 0 | AC23: 0 | AD23: 0 | AE23: 0 | AF23: 0 | AG23: 0 | AH23: 0 | AI23: 0 | AJ23: 0 | AK23: 0 | AL23: 0 | AM23: 0 | AN23: 0 | AO23: 0 | AP23: 0 | AQ23: 0 | AR23: 0 | AS23: 0 | AT23: 0 | AU23: 0 | AV23: 0 | AW23: 0 | AX23: 0 | AY23: 0 | AZ23: 0 | BA23: 0 | BB23: 0 | BC23: 0 | BD23: 0 | BE23: 0 | BF23: 0 | BG23: 0 | BH23: 0 | BI23: 0 | BJ23: 0 | BK23: 0 | BL23: 0 | BM23: 0
D24: Ingreso | E24: 0 | F24: 0 | G24: 0 | H24: 0 | I24: 0 | J24: 0 | K24: 0 | L24: 0 | M24: 0 | N24: 0 | O24: 0 | P24: 0 | Q24: 0 | R24: 0 | S24: 0 | T24: 0 | U24: 0 | V24: 0 | W24: 0 | X24: 0 | Y24: 0 | Z24: 0 | AA24: 0 | AB24: 0 | AC24: 0 | AD24: 0 | AE24: 0 | AF24: 0 | AG24: 0 | AH24: 0 | AI24: 0 | AJ24: 0 | AK24: 0 | AL24: 0 | AM24: 0 | AN24: 0 | AO24: 0 | AP24: 0 | AQ24: 0 | AR24: 0 | AS24: 0 | AT24: 0 | AU24: 0 | AV24: 0 | AW24: 0 | AX24: 0 | AY24: 0 | AZ24: 0 | BA24: 0 | BB24: 0 | BC24: 0 | BD24: 0 | BE24: 0 | BF24: 0 | BG24: 0 | BH24: 0 | BI24: 0 | BJ24: 0 | BK24: 0 | BL24: 0 | BM24: 0
... D35: Ingreso | E35: 0 | F35: 0 | G35: 0 | H35: 0 | I35: 0 | J35: 0 | K35: 0 | L35: 0 | M35: 0 | N35: 0 | O35: 0 | P35: 0 | Q35: 0 | R35: 0 | S35: 0 | T35: 0 | U35: 0 | V35: 0 | W35: 0 | X35: 0 | Y35: 0 | Z35: 0 | AA35: 0 | AB35: 0 | AC35: 0 | AD35: 0 | AE35: 0 | AF35: 0 | AG35: 0 | AH35: 0 | AI35: 0 | AJ35: 0 | AK35: 0 | AL35: 0 | AM35: 0 | AN35: 0 | AO35: 0 | AP35: 0 | AQ35: 0 | AR35: 0 | AS35: 0 | AT35: 0 | AU35: 0 | AV35: 0 | AW35: 0 | AX35: 0 | AY35: 0 | AZ35: 0 | BA35: 0 | BB35: 0 | BC35: 0 | BD35: 0 | BE35: 0 | BF35: 0 | BG35: 0 | BH35: 0 | BI35: 0 | BJ35: 0 | BK35: 0 | BL35: 0 | BM35: 0
C38: Edita las 30 filas amarillas. Mes 0 corresponde a la inversión inicial. Los ingresos y costos anuales del ejemplo se distribuyeron en 12 cuotas iguales. Las inversiones posteriores se ubicaron al cierre del año original. Ajusta cada mes según el calendario real y revisa la depreciación adicional en Supuestos.

Sheet Diccionario
C2: Diccionario
C5: Concepto | D5: Explicación | E5: Fórmula / ubicación | F5: Uso e interpretación
C6: VAN | D6: Valor actual neto. Valor de los flujos futuros menos el desembolso inicial. | E6: NPV(tasa, flujos meses 1:60) + flujo mes 0 | F6: Un VAN positivo crea valor a la tasa elegida.
C7: TIR | D7: Tasa mensual que hace que el VAN sea cero. | E7: IRR(flujos mes 0:60); anualizada = (1 + TIR mensual)^12 - 1 | F7: El resumen presenta TIR mensual y anualizada. Más de un cambio de signo requiere revisión.
C8: Tasa de descuento | D8: Tasa anual efectiva exigida al proyecto. Se convierte a tasa mensual efectiva. | E8: Tasa mensual = (1 + tasa anual)^(1/12) - 1 | F8: No dividir la tasa anual efectiva por 12. Supuestos!D9 y D14.
C9: Flujo libre | D9: Efectivo del proyecto antes de deuda. | E9: NOPAT + depreciación - inversión - variación CT + cierre | F9: Se descuenta con una tasa del proyecto sin financiamiento explícito.
C10: EBITDA | D10: Resultado operativo antes de depreciación e impuestos. | E10: Ingresos - costos variables - costos fijos | F10: No equivale al flujo de caja.
C11: EBIT | D11: Resultado operativo después de depreciación. | E11: EBITDA - depreciación | F11: Base simplificada para el impuesto operativo.
C12: NOPAT | D12: Resultado operativo después del impuesto modelado. | E12: EBIT - MAX(0, EBIT) × impuesto | F12: Impuesto simplificado mensual, sin arrastre de pérdidas ni compensación entre meses.
C13: Depreciación | D13: Distribución mensual del costo de activos. | E13: Inicial: inversión / (vida útil en años × 12), limitada al saldo | F13: Las altas posteriores requieren depreciación mensual adicional en Supuestos.
C14: CAPEX | D14: Inversión en activos. | E14: SUMIF por categoría Inversión | F14: Se ingresa positivo en Cuentas y se resta en Flujos.
C15: Capital de trabajo (CT) | D15: Recursos para financiar la operación, medidos en meses de ventas. | E15: Ventas del mes siguiente × meses de CT | F15: Mes 0 financia mes 1. Se recupera totalmente al mes 60. 1,2 meses conserva el CT del ejemplo anual.
C16: Valor residual | D16: Efectivo recibido por vender activos al cierre. | E16: Venta - MAX(0, venta - valor libro) × impuesto | F16: No se incluye perpetuidad ni crédito por pérdida en la venta.
... C23: VNA / NPV y TIR / IRR | D23: Nombres en español e inglés de las funciones financieras. | E23: VNA = NPV; TIR = IRR | F23: La configuración regional puede mostrar otros separadores. El mes 0 va fuera de NPV.

Sheet Controles
C2: Controles
C4: CONTROLES DE COHERENCIA
C5: Control | D5: Diferencia / conteo | E5: Estado | F5: Criterio
C6: VAN por dos métodos | D6: =Resumen!D8-SUM(Flujos!D26:BL26) -> 1.4901161e-08 | E6: =IF(ABS(D6)<0.01,"OK","Revisar") -> OK | F6: Diferencia cero
C7: Capital de trabajo recuperado | D7: =SUM(Flujos!D18:BL19) -> 0 | E7: =IF(ABS(D7)<0.01,"OK","Revisar") -> OK | F7: Salidas y recuperación netean cero
C8: Depreciación sobre base disponible | D8: =MAX(0,-SUM(Flujos!E10:BL11)+SUM(Flujos!D16:BL16)) -> 0 | E8: =IF(ABS(D8)<0.01,"OK","Revisar") -> OK | F8: No depreciar por encima de las inversiones
C9: Ingresos o costos en mes 0 | D9: =SUM(Cuentas!E6:E35)+Flujos!D16 -> 0 | E9: =IF(ABS(D9)<0.01,"OK","Revisar") -> OK | F9: Solo inversiones en mes 0
C10: Importes negativos en cuentas | D10: =COUNTIF(Cuentas!E6:BM35,"<0") -> 0 | E10: =IF(ABS(D10)<0.01,"OK","Revisar") -> OK | F10: Todos los importes se ingresan positivos
C11: Categorías inválidas | D11: =COUNTA(Cuentas!D6:D35)-COUNTIF(Cuentas!D6:D35,"Ingreso")-COUNTIF(Cuentas!D6:D35,"Costo fijo")-COUNTIF(Cuentas!D6:D35,"Inversión") -> 0 | E11: =IF(ABS(D11)<0.01,"OK","Revisar") -> OK | F11: Solo las tres categorías previstas
C12: Inversión inicial positiva | D12: =IF(Flujos!D16<0,0,1) -> 0 | E12: =IF(ABS(D12)<0.01,"OK","Revisar") -> OK | F12: Debe existir inversión inicial
C13: Tasas fuera de rango | D13: =IF(AND(Supuestos!D9>=0,Supuestos!D10>=0,Supuestos!D10<=1,Supuestos!D13>=0,MIN(Supuestos!E18:BL18)>=0,MAX(Supuestos!E18:BL18)<=1,Supuestos!D11>0,Supuestos!D12>=0),0,1) -> 0 | E13: =IF(ABS(D13)<0.01,"OK","Revisar") -> OK | F13: Tasas y CT válidos, vida útil positiva y venta no negativa.
C14: Cambios de signo adicionales | D14: =MAX(0,SUM(Flujos!E31:BL31)-1) -> 0 | E14: =IF(ABS(D14)<0.01,"OK","Revisar") -> OK | F14: Un cambio de signo permite interpretar la TIR convencional
C15: Saldo inicial de caja | D15: =Flujos!D24-Flujos!D16+Flujos!D17 -> 1.8626451e-09 | E15: =IF(ABS(D15)<0.01,"OK","Revisar") -> OK | F15: Inversión inicial más CT
C16: Depreciación adicional negativa | D16: =COUNTIF(Supuestos!E19:BL19,"<0") -> 0 | E16: =IF(ABS(D16)<0.01,"OK","Revisar") -> OK | F16: Depreciación adicional no negativa

Sheet Riesgos
C2: Riesgos
C5: Riesgo / tema | D5: Probabilidad | E5: Impacto | F5: Acción / mitigación | G5: Responsable | H5: Estado
C6: Ventas inferiores a lo previsto | D6: Media | E6: Alto | F6: Validar demanda y contratos | G6: Por completar | H6: Pendiente
C7: Aumento de costos | D7: Media | E7: Alto | F7: Revisar cotizaciones y márgenes | G7: Por completar | H7: Pendiente
C8: Necesidad de capital de trabajo | D8: Media | E8: Medio | F8: Revisar plazos de cobro y pago | G8: Por completar | H8: Pendiente
C9: Supuestos tributarios | D9: Media | E9: Alto | F9: Ajustar impuesto y depreciación al caso | G9: Por completar | H9: Pendiente
D10: Baja | E10: Medio | H10: Pendiente
D11: Baja | E11: Medio | H11: Pendiente
D12: Baja | E12: Medio | H12: Pendiente
D13: Baja | E13: Medio | H13: Pendiente
D14: Baja | E14: Medio | H14: Pendiente
D15: Baja | E15: Medio | H15: Pendiente
D16: Baja | E16: Medio | H16: Pendiente
D17: Baja | E17: Medio | H17: Pendiente
D18: Baja | E18: Medio | H18: Pendiente
D19: Baja | E19: Medio | H19: Pendiente
D20: Baja | E20: Medio | H20: Pendiente
